BEGIN:VCALENDAR
VERSION:2.0
PRODID:-//Sabre//Sabre VObject 4.5.8//EN
CALSCALE:GREGORIAN
BEGIN:VEVENT
UID:sabre-vobject-2feef4ee-791b-4b17-89c7-df6e88fb0455
DTSTAMP:20260419T142543Z
SUMMARY:Movie Debut Tuesdays
DESCRIPTION:Watch new releases every Tuesday at the Library.\n
X-ALT-DESC:FMTTYPE=text/html:<!DOCTYPE HTML PUBLIC "-//W3C//DTD HTML 3.2//E
 N"><HTML><p>Watch new releases every Tuesday at the Library.</p>\n</HTML>
CREATED;TZID=America/Juneau:20180619T142158
URL;VALUE=URI:https://wainwright.armymwr.com/calendar/event
DTSTART;TZID=America/Juneau:20170711T090000
DTEND;TZID=America/Juneau:20170711T180000
SEQUENCE:0
END:VEVENT
END:VCALENDAR
