BEGIN:VCALENDAR
VERSION:2.0
PRODID:-//Sabre//Sabre VObject 4.5.8//EN
CALSCALE:GREGORIAN
BEGIN:VEVENT
UID:sabre-vobject-8f149c21-72d2-4350-afac-f2568818a874
DTSTAMP:20260421T163839Z
SUMMARY:Smash Gaming Tournament
DESCRIPTION:Challenge your friends in Super Smash Bros. at the Last Frontie
 r Community Activity Center!\n
X-ALT-DESC:FMTTYPE=text/html:<!DOCTYPE HTML PUBLIC "-//W3C//DTD HTML 3.2//E
 N"><HTML><p>Challenge your friends in Super Smash Bros. at the Last Fronti
 er Community Activity Center!</p>\n</HTML>
CREATED;TZID=America/Juneau:20170913T134343
URL;VALUE=URI:https://wainwright.armymwr.com/calendar/event
DTSTART;TZID=America/Juneau:20170810T150000
DTEND;TZID=America/Juneau:20170810T190000
SEQUENCE:0
END:VEVENT
END:VCALENDAR
