BEGIN:VCALENDAR
VERSION:2.0
PRODID:-//Sabre//Sabre VObject 4.5.8//EN
CALSCALE:GREGORIAN
BEGIN:VEVENT
UID:sabre-vobject-caff94b5-5773-4a8e-ab3c-dbca19f38945
DTSTAMP:20260422T195404Z
SUMMARY:New Parent Support Program: Parents as Teachers
DESCRIPTION:Create a healthy relationship with your infant or young child.\
 n
X-ALT-DESC:FMTTYPE=text/html:<!DOCTYPE HTML PUBLIC "-//W3C//DTD HTML 3.2//E
 N"><HTML><p>Create a healthy relationship with your infant or young child.
 </p>\n</HTML>
CREATED;TZID=America/Juneau:20170913T134342
URL;VALUE=URI:https://wainwright.armymwr.com/calendar/event
DTSTART;TZID=America/Juneau:20170817T110000
DTEND;TZID=America/Juneau:20170817T113000
SEQUENCE:0
END:VEVENT
BEGIN:VEVENT
UID:sabre-vobject-a878ff3a-0b74-428c-9b1f-27e825b46324
DTSTAMP:20260422T195404Z
SUMMARY:New Parent Support Program: Parents as Teachers
DESCRIPTION:Create a healthy relationship with your infant or young child.\
 n
X-ALT-DESC:FMTTYPE=text/html:<!DOCTYPE HTML PUBLIC "-//W3C//DTD HTML 3.2//E
 N"><HTML><p>Create a healthy relationship with your infant or young child.
 </p>\n</HTML>
CREATED;TZID=America/Juneau:20170913T134342
URL;VALUE=URI:https://wainwright.armymwr.com/calendar/event
DTSTART;TZID=America/Juneau:20170921T110000
DTEND;TZID=America/Juneau:20170921T113000
SEQUENCE:1
END:VEVENT
BEGIN:VEVENT
UID:sabre-vobject-62e3e12e-5824-4d3e-a051-bd0196a17295
DTSTAMP:20260422T195404Z
SUMMARY:New Parent Support Program: Parents as Teachers
DESCRIPTION:Create a healthy relationship with your infant or young child.\
 n
X-ALT-DESC:FMTTYPE=text/html:<!DOCTYPE HTML PUBLIC "-//W3C//DTD HTML 3.2//E
 N"><HTML><p>Create a healthy relationship with your infant or young child.
 </p>\n</HTML>
CREATED;TZID=America/Juneau:20170913T134342
URL;VALUE=URI:https://wainwright.armymwr.com/calendar/event
DTSTART;TZID=America/Juneau:20171019T110000
DTEND;TZID=America/Juneau:20171019T113000
SEQUENCE:2
END:VEVENT
BEGIN:VEVENT
UID:sabre-vobject-f1f5877d-4cbc-48e9-9e1a-ea421c192c4c
DTSTAMP:20260422T195404Z
SUMMARY:New Parent Support Program: Parents as Teachers
DESCRIPTION:Create a healthy relationship with your infant or young child.\
 n
X-ALT-DESC:FMTTYPE=text/html:<!DOCTYPE HTML PUBLIC "-//W3C//DTD HTML 3.2//E
 N"><HTML><p>Create a healthy relationship with your infant or young child.
 </p>\n</HTML>
CREATED;TZID=America/Juneau:20170913T134342
URL;VALUE=URI:https://wainwright.armymwr.com/calendar/event
DTSTART;TZID=America/Juneau:20171116T110000
DTEND;TZID=America/Juneau:20171116T113000
SEQUENCE:3
END:VEVENT
BEGIN:VEVENT
UID:sabre-vobject-2c34331f-1a02-40e0-92dc-9ee7d946b6a5
DTSTAMP:20260422T195404Z
SUMMARY:New Parent Support Program: Parents as Teachers
DESCRIPTION:Create a healthy relationship with your infant or young child.\
 n
X-ALT-DESC:FMTTYPE=text/html:<!DOCTYPE HTML PUBLIC "-//W3C//DTD HTML 3.2//E
 N"><HTML><p>Create a healthy relationship with your infant or young child.
 </p>\n</HTML>
CREATED;TZID=America/Juneau:20170913T134342
URL;VALUE=URI:https://wainwright.armymwr.com/calendar/event
DTSTART;TZID=America/Juneau:20171221T110000
DTEND;TZID=America/Juneau:20171221T113000
SEQUENCE:4
END:VEVENT
END:VCALENDAR
