BEGIN:VCALENDAR
VERSION:2.0
PRODID:-//Sabre//Sabre VObject 4.5.8//EN
CALSCALE:GREGORIAN
BEGIN:VEVENT
UID:sabre-vobject-a0297d23-a16d-447e-a54c-203949144986
DTSTAMP:20260421T040857Z
SUMMARY:ACS's 52nd Birthday Bash!
DESCRIPTION:Army Community Service turns 52 years old this year!\n
X-ALT-DESC:FMTTYPE=text/html:<!DOCTYPE HTML PUBLIC "-//W3C//DTD HTML 3.2//E
 N"><HTML><p>Army Community Service turns 52 years old this year!</p>\n</HT
 ML>
CREATED;TZID=America/Juneau:20170913T134342
URL;VALUE=URI:https://wainwright.armymwr.com/calendar/event
DTSTART;TZID=America/Juneau:20170725T110000
DTEND;TZID=America/Juneau:20170725T130000
SEQUENCE:0
END:VEVENT
END:VCALENDAR
