BEGIN:VCALENDAR
VERSION:2.0
PRODID:-//Sabre//Sabre VObject 4.5.8//EN
CALSCALE:GREGORIAN
BEGIN:VEVENT
UID:sabre-vobject-4cbe6cc6-f008-48f4-bc8d-2607ecf54c68
DTSTAMP:20260425T005138Z
SUMMARY:Unique Way to Preserve Foods
DESCRIPTION:You probably have more fermented food in your diet than you thi
 nk!\n
X-ALT-DESC:FMTTYPE=text/html:<!DOCTYPE HTML PUBLIC "-//W3C//DTD HTML 3.2//E
 N"><HTML><p>You probably have more fermented food in your diet than you th
 ink!</p>\n</HTML>
CREATED;TZID=America/Juneau:20171011T165814
URL;VALUE=URI:https://wainwright.armymwr.com/calendar/event
DTSTART;TZID=America/Juneau:20171012T180000
DTEND;TZID=America/Juneau:20171012T200000
SEQUENCE:0
END:VEVENT
END:VCALENDAR
