BEGIN:VCALENDAR
VERSION:2.0
PRODID:-//Sabre//Sabre VObject 4.5.8//EN
CALSCALE:GREGORIAN
BEGIN:VEVENT
UID:sabre-vobject-ccde3ff1-614d-411e-88f5-722a96ebca83
DTSTAMP:20260420T194828Z
SUMMARY:Ice Cream Skedaddle 5k Fun Run
DESCRIPTION:Join us for the coolest race around!\n
X-ALT-DESC:FMTTYPE=text/html:<!DOCTYPE HTML PUBLIC "-//W3C//DTD HTML 3.2//E
 N"><HTML><p>Join us for the coolest race around!</p>\n</HTML>
CREATED;TZID=America/Juneau:20170913T134342
URL;VALUE=URI:https://wainwright.armymwr.com/calendar/event
DTSTART;TZID=America/Juneau:20170729T100000
DTEND;TZID=America/Juneau:20170729T110000
SEQUENCE:0
END:VEVENT
END:VCALENDAR
