BEGIN:VCALENDAR
VERSION:2.0
PRODID:-//Sabre//Sabre VObject 4.5.8//EN
CALSCALE:GREGORIAN
BEGIN:VEVENT
UID:sabre-vobject-3e9651bc-a449-4311-84af-0e6d3b48778c
DTSTAMP:20260423T063817Z
SUMMARY:Table Top Mountain Berry Picking
DESCRIPTION:Gather as many berries as you can carry!\n
X-ALT-DESC:FMTTYPE=text/html:<!DOCTYPE HTML PUBLIC "-//W3C//DTD HTML 3.2//E
 N"><HTML><p>Gather as many berries as you can carry!</p>\n</HTML>
CREATED;TZID=America/Juneau:20180326T164716
URL;VALUE=URI:https://wainwright.armymwr.com/calendar/event
DTSTART;TZID=America/Juneau:20180812T090000
DTEND;TZID=America/Juneau:20180812T180000
SEQUENCE:0
END:VEVENT
END:VCALENDAR
