BEGIN:VCALENDAR
VERSION:2.0
PRODID:-//Sabre//Sabre VObject 4.5.8//EN
CALSCALE:GREGORIAN
BEGIN:VEVENT
UID:sabre-vobject-d7fb0d72-5941-4a13-b5d9-d747c9a005fa
DTSTAMP:20260422T093527Z
SUMMARY:Intermediate Rock Climbing
DESCRIPTION:Take your climbing skills up a notch with the Intermediate Rock
  Climbing trip.\n
X-ALT-DESC:FMTTYPE=text/html:<!DOCTYPE HTML PUBLIC "-//W3C//DTD HTML 3.2//E
 N"><HTML><p>Take your climbing skills up a notch with the Intermediate Roc
 k Climbing trip.</p>\n</HTML>
CREATED;TZID=America/Juneau:20170913T134342
URL;VALUE=URI:https://wainwright.armymwr.com/calendar/event
DTSTART;TZID=America/Juneau:20170813T083000
DTEND;TZID=America/Juneau:20170813T093000
SEQUENCE:0
END:VEVENT
END:VCALENDAR
