BEGIN:VCALENDAR
VERSION:2.0
PRODID:-//Sabre//Sabre VObject 4.5.8//EN
CALSCALE:GREGORIAN
BEGIN:VEVENT
UID:sabre-vobject-56406c46-e3f2-4526-b1f4-7846bb310a7a
DTSTAMP:20260423T093313Z
SUMMARY:Friday Family Night Kayaking
DESCRIPTION:Paddle your way to fun with your family at the Friday Family Ni
 ght Kayaking event!\n
X-ALT-DESC:FMTTYPE=text/html:<!DOCTYPE HTML PUBLIC "-//W3C//DTD HTML 3.2//E
 N"><HTML><p>Paddle your way to fun with your family at the Friday Family N
 ight Kayaking event!</p>\n</HTML>
CREATED;TZID=America/Juneau:20180324T133846
URL;VALUE=URI:https://wainwright.armymwr.com/calendar/event
DTSTART;TZID=America/Juneau:20180622T173000
DTEND;TZID=America/Juneau:20180622T200000
SEQUENCE:0
END:VEVENT
BEGIN:VEVENT
UID:sabre-vobject-63ea98e4-d08e-4549-9675-4c659f542754
DTSTAMP:20260423T093313Z
SUMMARY:Friday Family Night Kayaking
DESCRIPTION:Paddle your way to fun with your family at the Friday Family Ni
 ght Kayaking event!\n
X-ALT-DESC:FMTTYPE=text/html:<!DOCTYPE HTML PUBLIC "-//W3C//DTD HTML 3.2//E
 N"><HTML><p>Paddle your way to fun with your family at the Friday Family N
 ight Kayaking event!</p>\n</HTML>
CREATED;TZID=America/Juneau:20180324T133846
URL;VALUE=URI:https://wainwright.armymwr.com/calendar/event
DTSTART;TZID=America/Juneau:20180824T173000
DTEND;TZID=America/Juneau:20180824T200000
SEQUENCE:1
END:VEVENT
END:VCALENDAR
