BEGIN:VCALENDAR
VERSION:2.0
PRODID:-//Sabre//Sabre VObject 4.5.8//EN
CALSCALE:GREGORIAN
BEGIN:VEVENT
UID:sabre-vobject-e03c38e6-e434-4033-a409-4669942c6690
DTSTAMP:20260419T162913Z
SUMMARY:Friday Family Night Frisbee Golf
DESCRIPTION:Frolf it up with the family and Outdoor Recreation!\n
X-ALT-DESC:FMTTYPE=text/html:<!DOCTYPE HTML PUBLIC "-//W3C//DTD HTML 3.2//E
 N"><HTML><p>Frolf it up with the family and Outdoor Recreation!</p>\n</HTM
 L>
CREATED;TZID=America/Juneau:20170913T134342
URL;VALUE=URI:https://wainwright.armymwr.com/calendar/event
DTSTART;TZID=America/Juneau:20170714T173000
DTEND;TZID=America/Juneau:20170714T200000
SEQUENCE:0
END:VEVENT
END:VCALENDAR
