BEGIN:VCALENDAR
VERSION:2.0
PRODID:-//Sabre//Sabre VObject 4.5.8//EN
CALSCALE:GREGORIAN
BEGIN:VEVENT
UID:sabre-vobject-55ac7494-c56b-4f6a-af86-6135ba90831e
DTSTAMP:20260421T163835Z
SUMMARY:Home School Connect
DESCRIPTION:Attend Home School Connect\, and learn the exciting Home School
 ing opportunities in and around Fort Wainwright\n
X-ALT-DESC:FMTTYPE=text/html:<!DOCTYPE HTML PUBLIC "-//W3C//DTD HTML 3.2//E
 N"><HTML><p>Attend Home School Connect\, and learn the exciting Home Schoo
 ling opportunities in and around Fort Wainwright</p>\n</HTML>
CREATED;TZID=America/Juneau:20170913T134342
URL;VALUE=URI:https://wainwright.armymwr.com/calendar/event
DTSTART;TZID=America/Juneau:20170808T160000
DTEND;TZID=America/Juneau:20170808T173000
SEQUENCE:0
END:VEVENT
END:VCALENDAR
