BEGIN:VCALENDAR
VERSION:2.0
PRODID:-//Sabre//Sabre VObject 4.5.8//EN
CALSCALE:GREGORIAN
BEGIN:VEVENT
UID:sabre-vobject-3ca14091-e245-4e6a-8039-9cfdb66a3981
DTSTAMP:20260425T165119Z
SUMMARY:Stomp Out Boredom 5k Fun Run & Walk
DESCRIPTION:Stomp out boredom and join us for a fun walk or run!\n
X-ALT-DESC:FMTTYPE=text/html:<!DOCTYPE HTML PUBLIC "-//W3C//DTD HTML 3.2//E
 N"><HTML><p>Stomp out boredom and join us for a fun walk or run!</p>\n</HT
 ML>
CREATED;TZID=America/Juneau:20180601T113839
URL;VALUE=URI:https://wainwright.armymwr.com/calendar/event
DTSTART;TZID=America/Juneau:20180609T090000
DTEND;TZID=America/Juneau:20180609T140000
SEQUENCE:0
END:VEVENT
END:VCALENDAR
