BEGIN:VCALENDAR
VERSION:2.0
PRODID:-//Sabre//Sabre VObject 4.5.8//EN
CALSCALE:GREGORIAN
BEGIN:VEVENT
UID:sabre-vobject-6b761d5a-0239-46e2-9c29-270087886084
DTSTAMP:20260425T103210Z
SUMMARY:Trivia Night
DESCRIPTION:
X-ALT-DESC:FMTTYPE=text/html:<!DOCTYPE HTML PUBLIC "-//W3C//DTD HTML 3.2//E
 N"><HTML></HTML>
CREATED;TZID=America/Juneau:20251104T095310
URL;VALUE=URI:https://wainwright.armymwr.com/calendar/event
DTSTART;TZID=America/Juneau:20251028T190000
DTEND;TZID=America/Juneau:20251028T213000
SEQUENCE:0
END:VEVENT
END:VCALENDAR
